BEGIN:VCALENDAR
VERSION:2.0
PRODID:-//Plone.org//NONSGML plone.app.event//EN
X-WR-TIMEZONE:Europe/Berlin
BEGIN:VEVENT
SUMMARY:SOUNDSNOISE Festival – Retromania! Lecture+Diskussion mit Max Da
 x\, Christina Nemec und Didi Neidhart
DTSTART;TZID=Europe/Berlin:20120517T203000
DTSTAMP:20260422T185356Z
UID:b050c247ca634bfca9fa2d4648ecef61@zmi.spielboden.at
CREATED:20120910T122949Z
DESCRIPTION:Moderation: Jürgen Thaler
LAST-MODIFIED:20210809T123408Z
URL:https://zmi.spielboden.at/Plone/veranstaltungen/2012/05_mai/soundsnois
 e-festival-2013-retromania-lecture-diskussion-mit-max-dax-christina-nemec-
 und-didi-neidhart
END:VEVENT
BEGIN:VTIMEZONE
TZID:Europe/Berlin
X-LIC-LOCATION:Europe/Berlin
BEGIN:DAYLIGHT
DTSTART:20120325T030000
TZNAME:CEST
TZOFFSETFROM:+0100
TZOFFSETTO:+0200
END:DAYLIGHT
END:VTIMEZONE
END:VCALENDAR
