BEGIN:VCALENDAR
VERSION:2.0
PRODID:-//Plone.org//NONSGML plone.app.event//EN
X-WR-TIMEZONE:Europe/Berlin
BEGIN:VEVENT
SUMMARY:SOUNDSNOISE Festival – ENO\, 78plus\, Tanz Baby!\, I Wanna Boogi
 e With You
DTSTART;TZID=Europe/Berlin:20120518T200000
DTSTAMP:20260422T185439Z
UID:d174c2c4c52c4d2eb66adf8236ae97cc@zmi.spielboden.at
CREATED:20120910T122950Z
LAST-MODIFIED:20210809T123408Z
URL:https://zmi.spielboden.at/Plone/veranstaltungen/2012/05_mai/soundsnois
 e-festival-2013-eno-78plus-tanz-baby-i-wanna-boogie-with-you-dj-leroy-schl
 imm
END:VEVENT
BEGIN:VTIMEZONE
TZID:Europe/Berlin
X-LIC-LOCATION:Europe/Berlin
BEGIN:DAYLIGHT
DTSTART:20120325T030000
TZNAME:CEST
TZOFFSETFROM:+0100
TZOFFSETTO:+0200
END:DAYLIGHT
END:VTIMEZONE
END:VCALENDAR
