BEGIN:VCALENDAR
VERSION:2.0
PRODID:-//Plone.org//NONSGML plone.app.event//EN
X-WR-TIMEZONE:Europe/Berlin
BEGIN:VEVENT
SUMMARY:SOUNDSNOISE Festival – Andy Dixon\, FM Einheit & Irmler\, Broken
  Heart Collector\, Crazy Bitch In A Cave\, DJ Falcon Punch
DTSTART;TZID=Europe/Berlin:20120519T200000
DTSTAMP:20260422T172442Z
UID:b2984150366445aa9e7e902eb87e7bef@zmi.spielboden.at
CREATED:20120910T122310Z
LAST-MODIFIED:20210809T124603Z
URL:https://zmi.spielboden.at/Plone/veranstaltungen/2012/05_mai/soundsnois
 e-festival-2013-andy-dixon-fm-einheit-irmler-broken-heart-collector-crazy-
 bitch-in-a-cave-dj-falcon-punch
END:VEVENT
BEGIN:VTIMEZONE
TZID:Europe/Berlin
X-LIC-LOCATION:Europe/Berlin
BEGIN:DAYLIGHT
DTSTART:20120325T030000
TZNAME:CEST
TZOFFSETFROM:+0100
TZOFFSETTO:+0200
END:DAYLIGHT
END:VTIMEZONE
END:VCALENDAR
