BEGIN:VCALENDAR
VERSION:2.0
PRODID:-//Plone.org//NONSGML plone.app.event//EN
X-WR-TIMEZONE:Europe/Berlin
BEGIN:VEVENT
SUMMARY:SOUNDSNOISE Festival – A Thousand Fuegos\, Budam\, Elektro Guzzi
 \, Tera Melos\, DJ Leroy Schlimm
DTSTART;TZID=Europe/Berlin:20120516T200000
DTSTAMP:20260422T174107Z
UID:b7abd7cfde3a48648c3b716e92d390ca@zmi.spielboden.at
CREATED:20120910T122540Z
LAST-MODIFIED:20210809T124617Z
URL:https://zmi.spielboden.at/Plone/veranstaltungen/2012/05_mai/soundsnois
 e-festival-2013-a-thousand-fuegos-budam-elektro-guzzi-tera-melos-dj-philip
 p-lheritier
END:VEVENT
BEGIN:VTIMEZONE
TZID:Europe/Berlin
X-LIC-LOCATION:Europe/Berlin
BEGIN:DAYLIGHT
DTSTART:20120325T030000
TZNAME:CEST
TZOFFSETFROM:+0100
TZOFFSETTO:+0200
END:DAYLIGHT
END:VTIMEZONE
END:VCALENDAR
