BEGIN:VCALENDAR
VERSION:2.0
PRODID:-//Plone.org//NONSGML plone.app.event//EN
X-WR-TIMEZONE:Europe/Berlin
BEGIN:VEVENT
SUMMARY:Sean Keane
DTSTART;TZID=Europe/Berlin:20120510T203000
DTSTAMP:20260424T164825Z
UID:ea8501d1363a479a817ae1bf90380a6b@zmi.spielboden.at
CREATED:20120910T122651Z
DESCRIPTION:The voice of Ireland!
LAST-MODIFIED:20210809T123357Z
URL:https://zmi.spielboden.at/Plone/veranstaltungen/2012/05_mai/sean-keane
END:VEVENT
BEGIN:VTIMEZONE
TZID:Europe/Berlin
X-LIC-LOCATION:Europe/Berlin
BEGIN:DAYLIGHT
DTSTART:20120325T030000
TZNAME:CEST
TZOFFSETFROM:+0100
TZOFFSETTO:+0200
END:DAYLIGHT
END:VTIMEZONE
END:VCALENDAR
