BEGIN:VCALENDAR
VERSION:2.0
PRODID:-//Plone.org//NONSGML plone.app.event//EN
X-WR-TIMEZONE:Europe/Berlin
BEGIN:VEVENT
SUMMARY:Schoren rockt!
DTSTART;TZID=Europe/Berlin:20120525T190000
DTSTAMP:20260422T185044Z
UID:c0993d21d47c44cfb838ba4bef74abb2@zmi.spielboden.at
CREATED:20120910T122759Z
LAST-MODIFIED:20210809T123401Z
URL:https://zmi.spielboden.at/Plone/veranstaltungen/2012/05_mai/schoren-ro
 ckt
END:VEVENT
BEGIN:VTIMEZONE
TZID:Europe/Berlin
X-LIC-LOCATION:Europe/Berlin
BEGIN:DAYLIGHT
DTSTART:20120325T030000
TZNAME:CEST
TZOFFSETFROM:+0100
TZOFFSETTO:+0200
END:DAYLIGHT
END:VTIMEZONE
END:VCALENDAR
