BEGIN:VCALENDAR
VERSION:2.0
PRODID:-//Plone.org//NONSGML plone.app.event//EN
X-WR-TIMEZONE:Europe/Berlin
BEGIN:VEVENT
SUMMARY:Neue Spielräume – Mag. Duygu Özkan
DTSTART;TZID=Europe/Berlin:20120522T193000
DTSTAMP:20260422T185234Z
UID:610f27bbed41459aa91861903a7ca303@zmi.spielboden.at
CREATED:20120910T123026Z
DESCRIPTION:Eine Sprache finden. Qualität im Journalismus – Freiräume 
 und Grenzen.
LAST-MODIFIED:20210809T123410Z
URL:https://zmi.spielboden.at/Plone/veranstaltungen/2012/05_mai/neue-spiel
 raume-2013-dr-rudiger-teutsch
END:VEVENT
BEGIN:VTIMEZONE
TZID:Europe/Berlin
X-LIC-LOCATION:Europe/Berlin
BEGIN:DAYLIGHT
DTSTART:20120325T030000
TZNAME:CEST
TZOFFSETFROM:+0100
TZOFFSETTO:+0200
END:DAYLIGHT
END:VTIMEZONE
END:VCALENDAR
