BEGIN:VCALENDAR
VERSION:2.0
PRODID:-//Plone.org//NONSGML plone.app.event//EN
X-WR-TIMEZONE:Europe/Berlin
BEGIN:VEVENT
SUMMARY:Marianne Mendt Jazznachwuchsförderung
DTSTART;TZID=Europe/Berlin:20120529T200000
DTSTAMP:20260422T171514Z
UID:3d9f670d18254fcfba1077377b0dd0f8@zmi.spielboden.at
CREATED:20120910T122320Z
DESCRIPTION:EINLADUNG AN ALLE JAZZBEGEISTERTEN MUSIK- UND GESANGSSTUDENTEN
 - UND SCHÜLER! 
LAST-MODIFIED:20210809T124603Z
URL:https://zmi.spielboden.at/Plone/veranstaltungen/2012/05_mai/marianne-m
 endt-jazznachwuchsforderung
END:VEVENT
BEGIN:VTIMEZONE
TZID:Europe/Berlin
X-LIC-LOCATION:Europe/Berlin
BEGIN:DAYLIGHT
DTSTART:20120325T030000
TZNAME:CEST
TZOFFSETFROM:+0100
TZOFFSETTO:+0200
END:DAYLIGHT
END:VTIMEZONE
END:VCALENDAR
