BEGIN:VCALENDAR
VERSION:2.0
PRODID:-//Plone.org//NONSGML plone.app.event//EN
X-WR-TIMEZONE:Europe/Berlin
BEGIN:VEVENT
SUMMARY:Giantree + Support: Heiligenblut
DTSTART;TZID=Europe/Berlin:20120512T210000
DTSTAMP:20260422T170947Z
UID:177c6f05576b40c39a9a6edf3fade1d0@zmi.spielboden.at
CREATED:20120910T122531Z
LAST-MODIFIED:20210809T124616Z
URL:https://zmi.spielboden.at/Plone/veranstaltungen/2012/05_mai/giantree
END:VEVENT
BEGIN:VTIMEZONE
TZID:Europe/Berlin
X-LIC-LOCATION:Europe/Berlin
BEGIN:DAYLIGHT
DTSTART:20120325T030000
TZNAME:CEST
TZOFFSETFROM:+0100
TZOFFSETTO:+0200
END:DAYLIGHT
END:VTIMEZONE
END:VCALENDAR
