BEGIN:VCALENDAR
VERSION:2.0
PRODID:-//Plone.org//NONSGML plone.app.event//EN
X-WR-TIMEZONE:Europe/Berlin
BEGIN:VEVENT
SUMMARY:Gauls Kinderlieder - Maikäfer
DTSTART;TZID=Europe/Berlin:20120505T150000
DTSTAMP:20260422T171221Z
UID:75e1d1c72c734c5b9d2359278f06506a@zmi.spielboden.at
CREATED:20120910T122505Z
DESCRIPTION:Kindermitmachkonzert ab 4 Jahren
LAST-MODIFIED:20210809T124614Z
URL:https://zmi.spielboden.at/Plone/veranstaltungen/2012/05_mai/gauls-kind
 erlieder-maikafer
END:VEVENT
BEGIN:VTIMEZONE
TZID:Europe/Berlin
X-LIC-LOCATION:Europe/Berlin
BEGIN:DAYLIGHT
DTSTART:20120325T030000
TZNAME:CEST
TZOFFSETFROM:+0100
TZOFFSETTO:+0200
END:DAYLIGHT
END:VTIMEZONE
END:VCALENDAR
