BEGIN:VCALENDAR
VERSION:2.0
PRODID:-//Plone.org//NONSGML plone.app.event//EN
X-WR-TIMEZONE:Europe/Berlin
BEGIN:VEVENT
SUMMARY:Marianne Mendt Jazznachwuchsförderung - PROBEN
DTSTART;TZID=Europe/Berlin:20120529T140000
DTSTAMP:20260422T171526Z
UID:e6ee0a54ffcd43fbbecd905b2b79b00a@zmi.spielboden.at
CREATED:20120910T122440Z
DESCRIPTION:EINLADUNG AN ALLE JAZZBEGEISTERTEN MUSIK- UND GESANGSSTUDENTEN
 - UND SCHÜLER! 
LAST-MODIFIED:20210809T124611Z
URL:https://zmi.spielboden.at/Plone/veranstaltungen/2012/05_mai/copy_of_ma
 rianne-mendt-jazznachwuchsforderung
END:VEVENT
BEGIN:VTIMEZONE
TZID:Europe/Berlin
X-LIC-LOCATION:Europe/Berlin
BEGIN:DAYLIGHT
DTSTART:20120325T030000
TZNAME:CEST
TZOFFSETFROM:+0100
TZOFFSETTO:+0200
END:DAYLIGHT
END:VTIMEZONE
END:VCALENDAR
