BEGIN:VCALENDAR
VERSION:2.0
PRODID:-//Plone.org//NONSGML plone.app.event//EN
X-WR-TIMEZONE:Europe/Berlin
BEGIN:VEVENT
SUMMARY:Poetry Slam - Kampf der Dichter
DTSTART;TZID=Europe/Berlin:20120511T200000
DTSTAMP:20260422T171221Z
UID:d3b1e61a005f4fcfa629e1f2ed20ba95@zmi.spielboden.at
CREATED:20120910T122330Z
LAST-MODIFIED:20210809T124604Z
URL:https://zmi.spielboden.at/Plone/veranstaltungen/2012/05_mai/copy_of_ja
 m-on-poetry
END:VEVENT
BEGIN:VTIMEZONE
TZID:Europe/Berlin
X-LIC-LOCATION:Europe/Berlin
BEGIN:DAYLIGHT
DTSTART:20120325T030000
TZNAME:CEST
TZOFFSETFROM:+0100
TZOFFSETTO:+0200
END:DAYLIGHT
END:VTIMEZONE
END:VCALENDAR
