BEGIN:VCALENDAR
VERSION:2.0
PRODID:-//Plone.org//NONSGML plone.app.event//EN
X-WR-TIMEZONE:Europe/Berlin
BEGIN:VEVENT
SUMMARY:Woody Allen Filmreihe – Der Stadtneurotiker
DTSTART;TZID=Europe/Berlin:20120515T203000
DTSTAMP:20260422T172613Z
UID:95ddaa6236c74f58b72be9922a3ce15c@zmi.spielboden.at
CREATED:20120910T122735Z
LAST-MODIFIED:20210809T123359Z
URL:https://zmi.spielboden.at/Plone/veranstaltungen/2012/05_mai/copy6_of_w
 oody-allen-filmreihe-2013-was-sie-schon-immer-uber-sex-wissen-wollten-aber
 -bisher-nicht-zu-fragen-wagten
END:VEVENT
BEGIN:VTIMEZONE
TZID:Europe/Berlin
X-LIC-LOCATION:Europe/Berlin
BEGIN:DAYLIGHT
DTSTART:20120325T030000
TZNAME:CEST
TZOFFSETFROM:+0100
TZOFFSETTO:+0200
END:DAYLIGHT
END:VTIMEZONE
END:VCALENDAR
