BEGIN:VCALENDAR
VERSION:2.0
PRODID:-//Plone.org//NONSGML plone.app.event//EN
X-WR-TIMEZONE:Europe/Berlin
BEGIN:VEVENT
SUMMARY:Andre Williams & The Goldstars + Support: Gordon Blue
DTSTART;TZID=Europe/Berlin:20120524T210000
DTSTAMP:20260422T185352Z
UID:761bde70ea3c4279be7782e0e1fe5dd1@zmi.spielboden.at
CREATED:20120910T122928Z
LAST-MODIFIED:20210809T123407Z
URL:https://zmi.spielboden.at/Plone/veranstaltungen/2012/05_mai/2010-10-25
 -21-00-andre-williams-the-goldstars
END:VEVENT
BEGIN:VTIMEZONE
TZID:Europe/Berlin
X-LIC-LOCATION:Europe/Berlin
BEGIN:DAYLIGHT
DTSTART:20120325T030000
TZNAME:CEST
TZOFFSETFROM:+0100
TZOFFSETTO:+0200
END:DAYLIGHT
END:VTIMEZONE
END:VCALENDAR
