BEGIN:VCALENDAR
VERSION:2.0
PRODID:-//Plone.org//NONSGML plone.app.event//EN
X-WR-TIMEZONE:Europe/Berlin
BEGIN:VEVENT
SUMMARY:STELLA12 – Darstellender.Kunst.Preis – Theater der Figur – D
 er Fischer und seine Seele
DTSTART;TZID=Europe/Berlin:20120428T150000
DTSTAMP:20260422T152531Z
UID:1a4c2cf4401a48b6b9241e7021f131a2@zmi.spielboden.at
CREATED:20120910T122708Z
DESCRIPTION:nach Oscar Wilde\, für Menschen ab 6 Jahren
LAST-MODIFIED:20210809T123357Z
URL:https://zmi.spielboden.at/Plone/veranstaltungen/2012/04_april/stella12
END:VEVENT
BEGIN:VTIMEZONE
TZID:Europe/Berlin
X-LIC-LOCATION:Europe/Berlin
BEGIN:DAYLIGHT
DTSTART:20120325T030000
TZNAME:CEST
TZOFFSETFROM:+0100
TZOFFSETTO:+0200
END:DAYLIGHT
END:VTIMEZONE
END:VCALENDAR
