BEGIN:VCALENDAR
VERSION:2.0
PRODID:-//Plone.org//NONSGML plone.app.event//EN
X-WR-TIMEZONE:Europe/Berlin
BEGIN:VEVENT
SUMMARY:STELLA12 – Darstellender.Kunst.Preis – Dschungel Wien – Kiwi
DTSTART;TZID=Europe/Berlin:20120425T193000
DTSTAMP:20260424T124928Z
UID:4c22e4ac4c2e4a6c867e40c001de493d@zmi.spielboden.at
CREATED:20120910T122833Z
DESCRIPTION:ab 13 Jahren
LAST-MODIFIED:20210809T123403Z
URL:https://zmi.spielboden.at/Plone/veranstaltungen/2012/04_april/stella12
 -2013-darstellender-kunst-preis-2013-dschungel-wien-2013-kiwi
END:VEVENT
BEGIN:VTIMEZONE
TZID:Europe/Berlin
X-LIC-LOCATION:Europe/Berlin
BEGIN:DAYLIGHT
DTSTART:20120325T030000
TZNAME:CEST
TZOFFSETFROM:+0100
TZOFFSETTO:+0200
END:DAYLIGHT
END:VTIMEZONE
END:VCALENDAR
