BEGIN:VCALENDAR
VERSION:2.0
PRODID:-//Plone.org//NONSGML plone.app.event//EN
X-WR-TIMEZONE:Europe/Berlin
BEGIN:VEVENT
SUMMARY:Son Of The Velvet Rat
DTSTART;TZID=Europe/Berlin:20120413T210000
DTSTAMP:20260424T170638Z
UID:3e5b5252a625456c95f121b4fb54d718@zmi.spielboden.at
CREATED:20120910T122839Z
LAST-MODIFIED:20210809T123403Z
URL:https://zmi.spielboden.at/Plone/veranstaltungen/2012/04_april/son-of-t
 he-velvet-rat
END:VEVENT
BEGIN:VTIMEZONE
TZID:Europe/Berlin
X-LIC-LOCATION:Europe/Berlin
BEGIN:DAYLIGHT
DTSTART:20120325T030000
TZNAME:CEST
TZOFFSETFROM:+0100
TZOFFSETTO:+0200
END:DAYLIGHT
END:VTIMEZONE
END:VCALENDAR
