BEGIN:VCALENDAR
VERSION:2.0
PRODID:-//Plone.org//NONSGML plone.app.event//EN
X-WR-TIMEZONE:Europe/Berlin
BEGIN:VEVENT
SUMMARY:Robin Hood
DTSTART;TZID=Europe/Berlin:20120404T203000
DTSTAMP:20260422T170910Z
UID:0aa890d6d26e4e25acae03b4dbcc2a9c@zmi.spielboden.at
CREATED:20120910T122945Z
DESCRIPTION:Peter Madsen & CIA play Silent Movies
LAST-MODIFIED:20210809T123408Z
URL:https://zmi.spielboden.at/Plone/veranstaltungen/2012/04_april/robin-ho
 od
END:VEVENT
BEGIN:VTIMEZONE
TZID:Europe/Berlin
X-LIC-LOCATION:Europe/Berlin
BEGIN:DAYLIGHT
DTSTART:20120325T030000
TZNAME:CEST
TZOFFSETFROM:+0100
TZOFFSETTO:+0200
END:DAYLIGHT
END:VTIMEZONE
END:VCALENDAR
