BEGIN:VCALENDAR
VERSION:2.0
PRODID:-//Plone.org//NONSGML plone.app.event//EN
X-WR-TIMEZONE:Europe/Berlin
BEGIN:VEVENT
SUMMARY:RePlay. Amateurfilmer erzählen
DTSTART;TZID=Europe/Berlin:20120403T203000
DTSTAMP:20260422T170911Z
UID:150989e03cc74fb88ab14c4287e64ccd@zmi.spielboden.at
CREATED:20120910T122518Z
LAST-MODIFIED:20210809T124616Z
URL:https://zmi.spielboden.at/Plone/veranstaltungen/2012/04_april/replay
END:VEVENT
BEGIN:VTIMEZONE
TZID:Europe/Berlin
X-LIC-LOCATION:Europe/Berlin
BEGIN:DAYLIGHT
DTSTART:20120325T030000
TZNAME:CEST
TZOFFSETFROM:+0100
TZOFFSETTO:+0200
END:DAYLIGHT
END:VTIMEZONE
END:VCALENDAR
