BEGIN:VCALENDAR
VERSION:2.0
PRODID:-//Plone.org//NONSGML plone.app.event//EN
X-WR-TIMEZONE:Europe/Berlin
BEGIN:VEVENT
SUMMARY:RePlay. Amateurfilmer erzählen
DTSTART;TZID=Europe/Berlin:20120412T203000
DTSTAMP:20260422T170911Z
UID:c2a88db13bb246bda6949aa2e555a45d@zmi.spielboden.at
CREATED:20120910T122522Z
LAST-MODIFIED:20210809T124616Z
URL:https://zmi.spielboden.at/Plone/veranstaltungen/2012/04_april/replay-2
END:VEVENT
BEGIN:VTIMEZONE
TZID:Europe/Berlin
X-LIC-LOCATION:Europe/Berlin
BEGIN:DAYLIGHT
DTSTART:20120325T030000
TZNAME:CEST
TZOFFSETFROM:+0100
TZOFFSETTO:+0200
END:DAYLIGHT
END:VTIMEZONE
END:VCALENDAR
