BEGIN:VCALENDAR
VERSION:2.0
PRODID:-//Plone.org//NONSGML plone.app.event//EN
X-WR-TIMEZONE:Europe/Berlin
BEGIN:VEVENT
SUMMARY:Queer-Filmreihe – The Ballad of Genesis and Lady Jaye
DTSTART;TZID=Europe/Berlin:20120420T203000
DTSTAMP:20260422T153624Z
UID:645bfefee435467fa09ed1f650c96c80@zmi.spielboden.at
CREATED:20120910T122733Z
DESCRIPTION:in Zusammenarbeit mit Go West – Verein für Lesben\, Schwule
 \, Bisexuelle und Transgenderpersonen
LAST-MODIFIED:20210809T123359Z
URL:https://zmi.spielboden.at/Plone/veranstaltungen/2012/04_april/queer-fi
 lmreihe-2013-the-ballad-of-genesis-and-lady-jay
END:VEVENT
BEGIN:VTIMEZONE
TZID:Europe/Berlin
X-LIC-LOCATION:Europe/Berlin
BEGIN:DAYLIGHT
DTSTART:20120325T030000
TZNAME:CEST
TZOFFSETFROM:+0100
TZOFFSETTO:+0200
END:DAYLIGHT
END:VTIMEZONE
END:VCALENDAR
