BEGIN:VCALENDAR
VERSION:2.0
PRODID:-//Plone.org//NONSGML plone.app.event//EN
X-WR-TIMEZONE:Europe/Berlin
BEGIN:VEVENT
SUMMARY:Queer-Filmreihe – Stadt Land Fluss
DTSTART;TZID=Europe/Berlin:20120418T203000
DTSTAMP:20260422T153512Z
UID:e71b559647cc4998967ec660a3485d52@zmi.spielboden.at
CREATED:20120910T122731Z
DESCRIPTION:in Zusammenarbeit mit Go West – Verein für Lesben\, Schwule
 \, Bisexuelle und Transgenderpersonen
LAST-MODIFIED:20210809T123359Z
URL:https://zmi.spielboden.at/Plone/veranstaltungen/2012/04_april/queer-fi
 lmreihe-2013-stadt-land-fluss
END:VEVENT
BEGIN:VTIMEZONE
TZID:Europe/Berlin
X-LIC-LOCATION:Europe/Berlin
BEGIN:DAYLIGHT
DTSTART:20120325T030000
TZNAME:CEST
TZOFFSETFROM:+0100
TZOFFSETTO:+0200
END:DAYLIGHT
END:VTIMEZONE
END:VCALENDAR
