BEGIN:VCALENDAR
VERSION:2.0
PRODID:-//Plone.org//NONSGML plone.app.event//EN
X-WR-TIMEZONE:Europe/Berlin
BEGIN:VEVENT
SUMMARY:Queer-Filmreihe – Romeos
DTSTART;TZID=Europe/Berlin:20120425T203000
DTSTAMP:20260422T171403Z
UID:cdcb88533e2a44a5a229829deb843010@zmi.spielboden.at
CREATED:20120910T122843Z
DESCRIPTION:in Zusammenarbeit mit Go West – Verein für Lesben\, Schwule
 \, Bisexuelle und Transgenderpersonen
LAST-MODIFIED:20210809T123403Z
URL:https://zmi.spielboden.at/Plone/veranstaltungen/2012/04_april/queer-fi
 lmreihe-2013-romeos
END:VEVENT
BEGIN:VTIMEZONE
TZID:Europe/Berlin
X-LIC-LOCATION:Europe/Berlin
BEGIN:DAYLIGHT
DTSTART:20120325T030000
TZNAME:CEST
TZOFFSETFROM:+0100
TZOFFSETTO:+0200
END:DAYLIGHT
END:VTIMEZONE
END:VCALENDAR
