BEGIN:VCALENDAR
VERSION:2.0
PRODID:-//Plone.org//NONSGML plone.app.event//EN
X-WR-TIMEZONE:Europe/Berlin
BEGIN:VEVENT
SUMMARY:Neue Spielräume – Marianne Schulze
DTSTART;TZID=Europe/Berlin:20120417T193000
DTSTAMP:20260422T171404Z
UID:5afae3d24edc4d06936693ebdea4ed7e@zmi.spielboden.at
CREATED:20120910T122529Z
DESCRIPTION:Menschenrechte und ihre Verwirklichung: Können\, Wollen und M
 üssen am Beispiel von Bildung für Menschen mit Behinderung
LAST-MODIFIED:20210809T124616Z
URL:https://zmi.spielboden.at/Plone/veranstaltungen/2012/04_april/neue-spi
 elraume-2013-dr-rudiger-teutsch
END:VEVENT
BEGIN:VTIMEZONE
TZID:Europe/Berlin
X-LIC-LOCATION:Europe/Berlin
BEGIN:DAYLIGHT
DTSTART:20120325T030000
TZNAME:CEST
TZOFFSETFROM:+0100
TZOFFSETTO:+0200
END:DAYLIGHT
END:VTIMEZONE
END:VCALENDAR
