BEGIN:VCALENDAR
VERSION:2.0
PRODID:-//Plone.org//NONSGML plone.app.event//EN
X-WR-TIMEZONE:Europe/Berlin
BEGIN:VEVENT
SUMMARY:Jam on Poetry
DTSTART;TZID=Europe/Berlin:20120419T200000
DTSTAMP:20260422T152630Z
UID:06693685aa684cb6a5c18a049171ba73@zmi.spielboden.at
CREATED:20120910T122333Z
LAST-MODIFIED:20120910T122333Z
URL:https://zmi.spielboden.at/Plone/veranstaltungen/2012/04_april/jam-on-p
 oetry
END:VEVENT
BEGIN:VTIMEZONE
TZID:Europe/Berlin
X-LIC-LOCATION:Europe/Berlin
BEGIN:DAYLIGHT
DTSTART:20120325T030000
TZNAME:CEST
TZOFFSETFROM:+0100
TZOFFSETTO:+0200
END:DAYLIGHT
END:VTIMEZONE
END:VCALENDAR
