BEGIN:VCALENDAR
VERSION:2.0
PRODID:-//Plone.org//NONSGML plone.app.event//EN
X-WR-TIMEZONE:Europe/Berlin
BEGIN:VEVENT
SUMMARY:Hunger.Macht.Profite.5 - Raising Resistance
DTSTART;TZID=Europe/Berlin:20120411T193000
DTSTAMP:20260422T171404Z
UID:227a0a57f3064568a0dee73b19a935ec@zmi.spielboden.at
CREATED:20120910T122525Z
DESCRIPTION:in Zusammenarbeit mit FIAN Menschenrechtsorganisation für das
  Recht auf Nahrung\, Attac Österreich Agrar-Arbeitsgruppe\, ÖBV Via Camp
 esina Österreich und normale.at
LAST-MODIFIED:20120910T122525Z
URL:https://zmi.spielboden.at/Plone/veranstaltungen/2012/04_april/hunger-m
 acht-profite-5-raising-resistance
END:VEVENT
BEGIN:VTIMEZONE
TZID:Europe/Berlin
X-LIC-LOCATION:Europe/Berlin
BEGIN:DAYLIGHT
DTSTART:20120325T030000
TZNAME:CEST
TZOFFSETFROM:+0100
TZOFFSETTO:+0200
END:DAYLIGHT
END:VTIMEZONE
END:VCALENDAR
