BEGIN:VCALENDAR
VERSION:2.0
PRODID:-//Plone.org//NONSGML plone.app.event//EN
X-WR-TIMEZONE:Europe/Berlin
BEGIN:VEVENT
SUMMARY:Hunger.Macht.Profite.5 - LoveMEATender
DTSTART;TZID=Europe/Berlin:20120410T193000
DTSTAMP:20260422T153047Z
UID:f169c3d502fa47d2ae063a1ad174318e@zmi.spielboden.at
CREATED:20120910T122524Z
DESCRIPTION:in Zusammenarbeit mit FIAN Menschenrechtsorganisation für das
  Recht auf Nahrung\, Attac Österreich Agrar-Arbeitsgruppe\, ÖBV Via Camp
 esina Österreich und normale.at
LAST-MODIFIED:20120910T122524Z
URL:https://zmi.spielboden.at/Plone/veranstaltungen/2012/04_april/hunger-m
 acht-profite-5-lovemeatender
END:VEVENT
BEGIN:VTIMEZONE
TZID:Europe/Berlin
X-LIC-LOCATION:Europe/Berlin
BEGIN:DAYLIGHT
DTSTART:20120325T030000
TZNAME:CEST
TZOFFSETFROM:+0100
TZOFFSETTO:+0200
END:DAYLIGHT
END:VTIMEZONE
END:VCALENDAR
