BEGIN:VCALENDAR
VERSION:2.0
PRODID:-//Plone.org//NONSGML plone.app.event//EN
X-WR-TIMEZONE:Europe/Berlin
BEGIN:VEVENT
SUMMARY:Gebhard Ullmann Tá Lam 11
DTSTART;TZID=Europe/Berlin:20120428T203000
DTSTAMP:20260422T152701Z
UID:c5dcdc4d150e4e6b980bd47dc713fe23@zmi.spielboden.at
CREATED:20120910T122345Z
DESCRIPTION:plays „The Music of Charles Mingus“
LAST-MODIFIED:20210809T124605Z
URL:https://zmi.spielboden.at/Plone/veranstaltungen/2012/04_april/gebhard-
 ullmann-ta-lam-11
END:VEVENT
BEGIN:VTIMEZONE
TZID:Europe/Berlin
X-LIC-LOCATION:Europe/Berlin
BEGIN:DAYLIGHT
DTSTART:20120325T030000
TZNAME:CEST
TZOFFSETFROM:+0100
TZOFFSETTO:+0200
END:DAYLIGHT
END:VTIMEZONE
END:VCALENDAR
