BEGIN:VCALENDAR
VERSION:2.0
PRODID:-//Plone.org//NONSGML plone.app.event//EN
X-WR-TIMEZONE:Europe/Berlin
BEGIN:VEVENT
SUMMARY:Gary + Support: The Centuries
DTSTART;TZID=Europe/Berlin:20120427T210000
DTSTAMP:20260422T202755Z
UID:f50d86e3aa274651b55a003366b7dd1c@zmi.spielboden.at
CREATED:20120910T123003Z
LAST-MODIFIED:20210809T123409Z
URL:https://zmi.spielboden.at/Plone/veranstaltungen/2012/04_april/gary
END:VEVENT
BEGIN:VTIMEZONE
TZID:Europe/Berlin
X-LIC-LOCATION:Europe/Berlin
BEGIN:DAYLIGHT
DTSTART:20120325T030000
TZNAME:CEST
TZOFFSETFROM:+0100
TZOFFSETTO:+0200
END:DAYLIGHT
END:VTIMEZONE
END:VCALENDAR
