BEGIN:VCALENDAR
VERSION:2.0
PRODID:-//Plone.org//NONSGML plone.app.event//EN
X-WR-TIMEZONE:Europe/Berlin
BEGIN:VEVENT
SUMMARY:STELLA12 – Darstellender.Kunst.Preis – Dschungel Wien – Kiwi
DTSTART;TZID=Europe/Berlin:20120426T100000
DTSTAMP:20260422T171531Z
UID:05fa8b86cdc84e34bca9666ea6b8ddd9@zmi.spielboden.at
CREATED:20120910T122933Z
DESCRIPTION:ab 13 Jahren
LAST-MODIFIED:20210809T123407Z
URL:https://zmi.spielboden.at/Plone/veranstaltungen/2012/04_april/copy_of_
 stella12-2013-darstellender-kunst-preis-2013-dschungel-wien-2013-kiwi
END:VEVENT
BEGIN:VTIMEZONE
TZID:Europe/Berlin
X-LIC-LOCATION:Europe/Berlin
BEGIN:DAYLIGHT
DTSTART:20120325T030000
TZNAME:CEST
TZOFFSETFROM:+0100
TZOFFSETTO:+0200
END:DAYLIGHT
END:VTIMEZONE
END:VCALENDAR
