BEGIN:VCALENDAR
VERSION:2.0
PRODID:-//Plone.org//NONSGML plone.app.event//EN
X-WR-TIMEZONE:Europe/Berlin
BEGIN:VEVENT
SUMMARY:Jeunesse für Kinder – Sonus Brass Ensemble - Rocky Roccoco
DTSTART;TZID=Europe/Berlin:20120420T100000
DTSTAMP:20260422T152708Z
UID:481ee5154fd7478b923585af883deea2@zmi.spielboden.at
CREATED:20120910T122701Z
DESCRIPTION:Kinderkonzert ab 4 Jahren
LAST-MODIFIED:20210809T123357Z
URL:https://zmi.spielboden.at/Plone/veranstaltungen/2012/04_april/copy_of_
 sonus-brass-ensemble-rocky-roccoco
END:VEVENT
BEGIN:VTIMEZONE
TZID:Europe/Berlin
X-LIC-LOCATION:Europe/Berlin
BEGIN:DAYLIGHT
DTSTART:20120325T030000
TZNAME:CEST
TZOFFSETFROM:+0100
TZOFFSETTO:+0200
END:DAYLIGHT
END:VTIMEZONE
END:VCALENDAR
