BEGIN:VCALENDAR
VERSION:2.0
PRODID:-//Plone.org//NONSGML plone.app.event//EN
X-WR-TIMEZONE:Europe/Berlin
BEGIN:VEVENT
SUMMARY:Carla Bley Trio
DTSTART;TZID=Europe/Berlin:20120420T203000
DTSTAMP:20260422T152712Z
UID:dde91df92d4540bf98237ebbf45a10cb@zmi.spielboden.at
CREATED:20120910T122457Z
LAST-MODIFIED:20210809T124614Z
URL:https://zmi.spielboden.at/Plone/veranstaltungen/2012/04_april/carla-bl
 ey-trio
END:VEVENT
BEGIN:VTIMEZONE
TZID:Europe/Berlin
X-LIC-LOCATION:Europe/Berlin
BEGIN:DAYLIGHT
DTSTART:20120325T030000
TZNAME:CEST
TZOFFSETFROM:+0100
TZOFFSETTO:+0200
END:DAYLIGHT
END:VTIMEZONE
END:VCALENDAR
