BEGIN:VCALENDAR
VERSION:2.0
PRODID:-//Plone.org//NONSGML plone.app.event//EN
X-WR-TIMEZONE:Europe/Berlin
BEGIN:VEVENT
SUMMARY:Osterbock in der Kantine
DTSTART;TZID=Europe/Berlin:20120408T140000
DTSTAMP:20260422T153013Z
UID:d04f2ece2e3d4c08914202ea7f67fd4a@zmi.spielboden.at
CREATED:20120910T122255Z
LAST-MODIFIED:20120910T122255Z
URL:https://zmi.spielboden.at/Plone/veranstaltungen/2012/04_april/2011-04-
 24-14-00-osterbock-in-der-kantine
END:VEVENT
BEGIN:VTIMEZONE
TZID:Europe/Berlin
X-LIC-LOCATION:Europe/Berlin
BEGIN:DAYLIGHT
DTSTART:20120325T030000
TZNAME:CEST
TZOFFSETFROM:+0100
TZOFFSETTO:+0200
END:DAYLIGHT
END:VTIMEZONE
END:VCALENDAR
