BEGIN:VCALENDAR
VERSION:2.0
PRODID:-//Plone.org//NONSGML plone.app.event//EN
X-WR-TIMEZONE:Europe/Berlin
BEGIN:VEVENT
SUMMARY:Depeche Mode and more Party
DTSTART;TZID=Europe/Berlin:20120414T200000
DTSTAMP:20260422T173607Z
UID:18a3fd8385944f33b5ecddf0ecb4fc2e@zmi.spielboden.at
CREATED:20120910T122909Z
DESCRIPTION:Vermietung
LAST-MODIFIED:20210809T123405Z
URL:https://zmi.spielboden.at/Plone/veranstaltungen/2012/04_april/2011-04-
 16-20-00-depeche-mode-and-more-party
END:VEVENT
BEGIN:VTIMEZONE
TZID:Europe/Berlin
X-LIC-LOCATION:Europe/Berlin
BEGIN:DAYLIGHT
DTSTART:20120325T030000
TZNAME:CEST
TZOFFSETFROM:+0100
TZOFFSETTO:+0200
END:DAYLIGHT
END:VTIMEZONE
END:VCALENDAR
