BEGIN:VCALENDAR
VERSION:2.0
PRODID:-//Plone.org//NONSGML plone.app.event//EN
X-WR-TIMEZONE:Europe/Berlin
BEGIN:VEVENT
SUMMARY:Nachteulen presents: Wolfram & I Heart Sharks & Techtrix
DTSTART;TZID=Europe/Berlin:20120303T220000
DTSTAMP:20260424T215713Z
UID:c7cb768257bd431a8ffb327735cbe6cc@zmi.spielboden.at
CREATED:20120910T122727Z
DESCRIPTION:Trashbar versucht Soundgrenzen zu überspringen. \nVon Electro
 \, Indie über House und Disco zu Pop.\n
LAST-MODIFIED:20210809T123358Z
URL:https://zmi.spielboden.at/Plone/veranstaltungen/2012/03_maerz/wolfram-
 diskokaine-i-heart-sharks-indietronic-aus-berlin
END:VEVENT
BEGIN:VTIMEZONE
TZID:Europe/Berlin
X-LIC-LOCATION:Europe/Berlin
BEGIN:STANDARD
DTSTART:20111030T020000
TZNAME:CET
TZOFFSETFROM:+0200
TZOFFSETTO:+0100
END:STANDARD
END:VTIMEZONE
END:VCALENDAR
