BEGIN:VCALENDAR
VERSION:2.0
PRODID:-//Plone.org//NONSGML plone.app.event//EN
X-WR-TIMEZONE:Europe/Berlin
BEGIN:VEVENT
SUMMARY:Vinyl Only Club
DTSTART;TZID=Europe/Berlin:20120316T210000
DTSTAMP:20260424T204039Z
UID:918dc0bd52464d32a6f2136a72a19483@zmi.spielboden.at
CREATED:20120910T122527Z
LAST-MODIFIED:20120910T122527Z
URL:https://zmi.spielboden.at/Plone/veranstaltungen/2012/03_maerz/vinyl-on
 ly-club
END:VEVENT
BEGIN:VTIMEZONE
TZID:Europe/Berlin
X-LIC-LOCATION:Europe/Berlin
BEGIN:STANDARD
DTSTART:20111030T020000
TZNAME:CET
TZOFFSETFROM:+0200
TZOFFSETTO:+0100
END:STANDARD
END:VTIMEZONE
END:VCALENDAR
