BEGIN:VCALENDAR
VERSION:2.0
PRODID:-//Plone.org//NONSGML plone.app.event//EN
X-WR-TIMEZONE:Europe/Berlin
BEGIN:VEVENT
SUMMARY:Ulrich Drechsler feat. Efrat Alony
DTSTART;TZID=Europe/Berlin:20120324T203000
DTSTAMP:20260424T215405Z
UID:c2ded2b4dcb945ae845851fb19e90dc6@zmi.spielboden.at
CREATED:20120910T122921Z
LAST-MODIFIED:20210809T123406Z
URL:https://zmi.spielboden.at/Plone/veranstaltungen/2012/03_maerz/ulrich-d
 rechsler-feat-efrat-alony
END:VEVENT
BEGIN:VTIMEZONE
TZID:Europe/Berlin
X-LIC-LOCATION:Europe/Berlin
BEGIN:STANDARD
DTSTART:20111030T020000
TZNAME:CET
TZOFFSETFROM:+0200
TZOFFSETTO:+0100
END:STANDARD
END:VTIMEZONE
END:VCALENDAR
