BEGIN:VCALENDAR
VERSION:2.0
PRODID:-//Plone.org//NONSGML plone.app.event//EN
X-WR-TIMEZONE:Europe/Berlin
BEGIN:VEVENT
SUMMARY:Trio MumpfTRIbumpf
DTSTART;TZID=Europe/Berlin:20120310T150000
DTSTAMP:20260424T215509Z
UID:47c96191be934975a0a211eb4d0272ee@zmi.spielboden.at
CREATED:20120910T122925Z
DESCRIPTION:Kindermitmachkonzert ab 4 Jahren
LAST-MODIFIED:20210809T123407Z
URL:https://zmi.spielboden.at/Plone/veranstaltungen/2012/03_maerz/trio-mum
 pftribumpf
END:VEVENT
BEGIN:VTIMEZONE
TZID:Europe/Berlin
X-LIC-LOCATION:Europe/Berlin
BEGIN:STANDARD
DTSTART:20111030T020000
TZNAME:CET
TZOFFSETFROM:+0200
TZOFFSETTO:+0100
END:STANDARD
END:VTIMEZONE
END:VCALENDAR
