BEGIN:VCALENDAR
VERSION:2.0
PRODID:-//Plone.org//NONSGML plone.app.event//EN
X-WR-TIMEZONE:Europe/Berlin
BEGIN:VEVENT
SUMMARY:I ♥ Disco
DTSTART;TZID=Europe/Berlin:20120317T210000
DTSTAMP:20260424T220009Z
UID:f1e9da5c86a6404cac93c238e2d3ae25@zmi.spielboden.at
CREATED:20120910T123025Z
DESCRIPTION:mit den DJ's Marcello und Waz Exp.
LAST-MODIFIED:20210809T123410Z
URL:https://zmi.spielboden.at/Plone/veranstaltungen/2012/03_maerz/soul-fun
 k-disco
END:VEVENT
BEGIN:VTIMEZONE
TZID:Europe/Berlin
X-LIC-LOCATION:Europe/Berlin
BEGIN:STANDARD
DTSTART:20111030T020000
TZNAME:CET
TZOFFSETFROM:+0200
TZOFFSETTO:+0100
END:STANDARD
END:VTIMEZONE
END:VCALENDAR
