BEGIN:VCALENDAR
VERSION:2.0
PRODID:-//Plone.org//NONSGML plone.app.event//EN
X-WR-TIMEZONE:Europe/Berlin
BEGIN:VEVENT
SUMMARY:Neue Spielräume – Univ.Prof. Dr. Erol Yıldız Ph.D.
DTSTART;TZID=Europe/Berlin:20120306T193000
DTSTAMP:20260425T020647Z
UID:20a5f749d09d4b55b7e0c72d5639f11f@zmi.spielboden.at
CREATED:20120910T122956Z
DESCRIPTION:Der Nutzen urbaner Probleme: Über Vielfalt und Lösungen
LAST-MODIFIED:20210809T123408Z
URL:https://zmi.spielboden.at/Plone/veranstaltungen/2012/03_maerz/neue-spi
 elraume-2013-univ-prof-dr-erol-yildiz-ph-d
END:VEVENT
BEGIN:VTIMEZONE
TZID:Europe/Berlin
X-LIC-LOCATION:Europe/Berlin
BEGIN:STANDARD
DTSTART:20111030T020000
TZNAME:CET
TZOFFSETFROM:+0200
TZOFFSETTO:+0100
END:STANDARD
END:VTIMEZONE
END:VCALENDAR
