BEGIN:VCALENDAR
VERSION:2.0
PRODID:-//Plone.org//NONSGML plone.app.event//EN
X-WR-TIMEZONE:Europe/Berlin
BEGIN:VEVENT
SUMMARY:Neue Spielräume – Dr. Rüdiger Teutsch
DTSTART;TZID=Europe/Berlin:20120327T193000
DTSTAMP:20260425T021228Z
UID:52d0074aac1149cfa697ac3897b3bd30@zmi.spielboden.at
CREATED:20120910T122813Z
DESCRIPTION:Innovation in komplexen Systemen: Bildung und Schule in Zeiten
  der Globalisierung
LAST-MODIFIED:20210809T123402Z
URL:https://zmi.spielboden.at/Plone/veranstaltungen/2012/03_maerz/neue-spi
 elraume-2013-dr-rudiger-teutsch
END:VEVENT
BEGIN:VTIMEZONE
TZID:Europe/Berlin
X-LIC-LOCATION:Europe/Berlin
BEGIN:DAYLIGHT
DTSTART:20120325T030000
TZNAME:CEST
TZOFFSETFROM:+0100
TZOFFSETTO:+0200
END:DAYLIGHT
END:VTIMEZONE
END:VCALENDAR
