BEGIN:VCALENDAR
VERSION:2.0
PRODID:-//Plone.org//NONSGML plone.app.event//EN
X-WR-TIMEZONE:Europe/Berlin
BEGIN:VEVENT
SUMMARY:Miss Valentina
DTSTART;TZID=Europe/Berlin:20120302T210000
DTSTAMP:20260424T203904Z
UID:6ebdbea8f6df4181be1319017e63de7e@zmi.spielboden.at
CREATED:20120910T122539Z
LAST-MODIFIED:20120910T122539Z
URL:https://zmi.spielboden.at/Plone/veranstaltungen/2012/03_maerz/miss-val
 entina
END:VEVENT
BEGIN:VTIMEZONE
TZID:Europe/Berlin
X-LIC-LOCATION:Europe/Berlin
BEGIN:STANDARD
DTSTART:20111030T020000
TZNAME:CET
TZOFFSETFROM:+0200
TZOFFSETTO:+0100
END:STANDARD
END:VTIMEZONE
END:VCALENDAR
