BEGIN:VCALENDAR
VERSION:2.0
PRODID:-//Plone.org//NONSGML plone.app.event//EN
X-WR-TIMEZONE:Europe/Berlin
BEGIN:VEVENT
SUMMARY:Markus Koschuh: Wort fetzt!
DTSTART;TZID=Europe/Berlin:20120322T203000
DTSTAMP:20260424T215953Z
UID:e6e3af8317f3412e97553b0c9245bdb5@zmi.spielboden.at
CREATED:20120910T122730Z
LAST-MODIFIED:20210809T123358Z
URL:https://zmi.spielboden.at/Plone/veranstaltungen/2012/03_maerz/markus-k
 oschuh-wort-fetzt
END:VEVENT
BEGIN:VTIMEZONE
TZID:Europe/Berlin
X-LIC-LOCATION:Europe/Berlin
BEGIN:STANDARD
DTSTART:20111030T020000
TZNAME:CET
TZOFFSETFROM:+0200
TZOFFSETTO:+0100
END:STANDARD
END:VTIMEZONE
END:VCALENDAR
