BEGIN:VCALENDAR
VERSION:2.0
PRODID:-//Plone.org//NONSGML plone.app.event//EN
X-WR-TIMEZONE:Europe/Berlin
BEGIN:VEVENT
SUMMARY:Malen nach Zahlen
DTSTART;TZID=Europe/Berlin:20120323T210000
DTSTAMP:20260424T203635Z
UID:3bfee056e57e4844b1d76577026e4421@zmi.spielboden.at
CREATED:20120910T122528Z
LAST-MODIFIED:20120910T122528Z
URL:https://zmi.spielboden.at/Plone/veranstaltungen/2012/03_maerz/malen-na
 ch-zahlen
END:VEVENT
BEGIN:VTIMEZONE
TZID:Europe/Berlin
X-LIC-LOCATION:Europe/Berlin
BEGIN:STANDARD
DTSTART:20111030T020000
TZNAME:CET
TZOFFSETFROM:+0200
TZOFFSETTO:+0100
END:STANDARD
END:VTIMEZONE
END:VCALENDAR
