BEGIN:VCALENDAR
VERSION:2.0
PRODID:-//Plone.org//NONSGML plone.app.event//EN
X-WR-TIMEZONE:Europe/Berlin
BEGIN:VEVENT
SUMMARY:Lambchop
DTSTART;TZID=Europe/Berlin:20120314T203000
DTSTAMP:20260424T202014Z
UID:ac66ae160fa349eca1ec7e0ad0a4a333@zmi.spielboden.at
CREATED:20120910T122237Z
DESCRIPTION:Support: Cortney Tidwell (USA)
LAST-MODIFIED:20210809T124559Z
URL:https://zmi.spielboden.at/Plone/veranstaltungen/2012/03_maerz/lambchop
END:VEVENT
BEGIN:VTIMEZONE
TZID:Europe/Berlin
X-LIC-LOCATION:Europe/Berlin
BEGIN:STANDARD
DTSTART:20111030T020000
TZNAME:CET
TZOFFSETFROM:+0200
TZOFFSETTO:+0100
END:STANDARD
END:VTIMEZONE
END:VCALENDAR
