BEGIN:VCALENDAR
VERSION:2.0
PRODID:-//Plone.org//NONSGML plone.app.event//EN
X-WR-TIMEZONE:Europe/Berlin
BEGIN:VEVENT
SUMMARY:Kuddelmuddel bei Pettersson und Findus
DTSTART;TZID=Europe/Berlin:20120324T150000
DTSTAMP:20260424T220303Z
UID:b2a63802661e46269eab90b1e29c5b39@zmi.spielboden.at
CREATED:20120910T122954Z
DESCRIPTION:Kinderzeichentrickfilm nach den Büchern von Sven Nordqvist f
 ür Kinder ab 5 Jahren
LAST-MODIFIED:20210809T123408Z
URL:https://zmi.spielboden.at/Plone/veranstaltungen/2012/03_maerz/kuddelmu
 ddel-bei-pettersson-und-findus
END:VEVENT
BEGIN:VTIMEZONE
TZID:Europe/Berlin
X-LIC-LOCATION:Europe/Berlin
BEGIN:STANDARD
DTSTART:20111030T020000
TZNAME:CET
TZOFFSETFROM:+0200
TZOFFSETTO:+0100
END:STANDARD
END:VTIMEZONE
END:VCALENDAR
