BEGIN:VCALENDAR
VERSION:2.0
PRODID:-//Plone.org//NONSGML plone.app.event//EN
X-WR-TIMEZONE:Europe/Berlin
BEGIN:VEVENT
SUMMARY:Filmreihe Psychische Krankheiten – Helen
DTSTART;TZID=Europe/Berlin:20120310T203000
DTSTAMP:20260424T215649Z
UID:e65adb005f564075aad964b07c63cd97@zmi.spielboden.at
CREATED:20120910T123020Z
DESCRIPTION:(in Zusammenarbeit mit pro mente Vorarlberg)
LAST-MODIFIED:20210809T123410Z
URL:https://zmi.spielboden.at/Plone/veranstaltungen/2012/03_maerz/helen
END:VEVENT
BEGIN:VTIMEZONE
TZID:Europe/Berlin
X-LIC-LOCATION:Europe/Berlin
BEGIN:STANDARD
DTSTART:20111030T020000
TZNAME:CET
TZOFFSETFROM:+0200
TZOFFSETTO:+0100
END:STANDARD
END:VTIMEZONE
END:VCALENDAR
