BEGIN:VCALENDAR
VERSION:2.0
PRODID:-//Plone.org//NONSGML plone.app.event//EN
X-WR-TIMEZONE:Europe/Berlin
BEGIN:VEVENT
SUMMARY:Filmreihe Psychische Krankheiten – Schnupfen im Kopf
DTSTART;TZID=Europe/Berlin:20120315T203000
DTSTAMP:20260424T220822Z
UID:e359eb76f88f49f999c84acbde64e98f@zmi.spielboden.at
CREATED:20120910T123023Z
DESCRIPTION:(in Zusammenarbeit mit pro mente Vorarlberg)
LAST-MODIFIED:20210809T123410Z
URL:https://zmi.spielboden.at/Plone/veranstaltungen/2012/03_maerz/filmreih
 e-psychische-krankheiten-2013-schnupfen-im-kopf
END:VEVENT
BEGIN:VTIMEZONE
TZID:Europe/Berlin
X-LIC-LOCATION:Europe/Berlin
BEGIN:STANDARD
DTSTART:20111030T020000
TZNAME:CET
TZOFFSETFROM:+0200
TZOFFSETTO:+0100
END:STANDARD
END:VTIMEZONE
END:VCALENDAR
