BEGIN:VCALENDAR
VERSION:2.0
PRODID:-//Plone.org//NONSGML plone.app.event//EN
X-WR-TIMEZONE:Europe/Berlin
BEGIN:VEVENT
SUMMARY:Filmreihe Bio Austria – Taste the Waste
DTSTART;TZID=Europe/Berlin:20120314T203000
DTSTAMP:20260424T203613Z
UID:9626924d299c4a258d4d3062c539a2e6@zmi.spielboden.at
CREATED:20120910T122554Z
DESCRIPTION:in Zusammenarbeit mit BIO-Austria
LAST-MODIFIED:20210809T123354Z
URL:https://zmi.spielboden.at/Plone/veranstaltungen/2012/03_maerz/filmreih
 e-bio-austria-2013-taste-the-waste
END:VEVENT
BEGIN:VTIMEZONE
TZID:Europe/Berlin
X-LIC-LOCATION:Europe/Berlin
BEGIN:STANDARD
DTSTART:20111030T020000
TZNAME:CET
TZOFFSETFROM:+0200
TZOFFSETTO:+0100
END:STANDARD
END:VTIMEZONE
END:VCALENDAR
