BEGIN:VCALENDAR
VERSION:2.0
PRODID:-//Plone.org//NONSGML plone.app.event//EN
X-WR-TIMEZONE:Europe/Berlin
BEGIN:VEVENT
SUMMARY:Die Stromer – Lizzy auf Schatzsuche
DTSTART;TZID=Europe/Berlin:20120317T150000
DTSTAMP:20260424T215509Z
UID:d314e61e33c945bb917e18d770d077fb@zmi.spielboden.at
CREATED:20120910T122926Z
DESCRIPTION:Abenteuergeschichte ab 3 Jahren 
LAST-MODIFIED:20210809T123407Z
URL:https://zmi.spielboden.at/Plone/veranstaltungen/2012/03_maerz/die-stro
 mer-2013-lizzy-auf-schatzsuche
END:VEVENT
BEGIN:VTIMEZONE
TZID:Europe/Berlin
X-LIC-LOCATION:Europe/Berlin
BEGIN:STANDARD
DTSTART:20111030T020000
TZNAME:CET
TZOFFSETFROM:+0200
TZOFFSETTO:+0100
END:STANDARD
END:VTIMEZONE
END:VCALENDAR
